BEGIN:VCALENDAR
VERSION:2.0
PRODID:-//Cabrières - ECPv6.15.20//NONSGML v1.0//EN
CALSCALE:GREGORIAN
METHOD:PUBLISH
X-ORIGINAL-URL:https://cabrieres.fr
X-WR-CALDESC:Évènements pour Cabrières
REFRESH-INTERVAL;VALUE=DURATION:PT1H
X-Robots-Tag:noindex
X-PUBLISHED-TTL:PT1H
BEGIN:VTIMEZONE
TZID:Europe/Paris
BEGIN:DAYLIGHT
TZOFFSETFROM:+0100
TZOFFSETTO:+0200
TZNAME:CEST
DTSTART:20250330T010000
END:DAYLIGHT
BEGIN:STANDARD
TZOFFSETFROM:+0200
TZOFFSETTO:+0100
TZNAME:CET
DTSTART:20251026T010000
END:STANDARD
BEGIN:DAYLIGHT
TZOFFSETFROM:+0100
TZOFFSETTO:+0200
TZNAME:CEST
DTSTART:20260329T010000
END:DAYLIGHT
BEGIN:STANDARD
TZOFFSETFROM:+0200
TZOFFSETTO:+0100
TZNAME:CET
DTSTART:20261025T010000
END:STANDARD
BEGIN:DAYLIGHT
TZOFFSETFROM:+0100
TZOFFSETTO:+0200
TZNAME:CEST
DTSTART:20270328T010000
END:DAYLIGHT
BEGIN:STANDARD
TZOFFSETFROM:+0200
TZOFFSETTO:+0100
TZNAME:CET
DTSTART:20271031T010000
END:STANDARD
END:VTIMEZONE
BEGIN:VEVENT
DTSTART;VALUE=DATE:20260607
DTEND;VALUE=DATE:20260608
DTSTAMP:20260423T002435
CREATED:20260214T092346Z
LAST-MODIFIED:20260314T184837Z
UID:2414-1780790400-1780876799@cabrieres.fr
SUMMARY:Trail de l'Estabel 2026
DESCRIPTION:Le trail de l’Estabel est de retour le dimanche 7 juin 2026 !! \nPour les sportifs\, le Trail de l’Estabel aura lieu le Dimanche 7 juin\, départ dès 9 h\, parcours sur des sentiers OENORANDO;\n– 28 kms (D + 1255 m) : 30 € départ 9h\n– 18 km    (D + 680 m) : 20 € départ 9h30\n– 8 kms     (D+ 275 m) : 10 € départ 10h\n– Parcours enfants : Gratuit Départ 10h05\n– Parcours pédestre 7 kms : 10 € Départ 9h15 \nA l’arrivée : Grillade + 1 verre de vin offerts aux coureurs et marcheurs (restauration possible sur place) \nInscriptions : ATS SPORT 0467454110 – www.ats-sport.com \n 
URL:https://cabrieres.fr/?tribe_events=trail-de-lestabel
LOCATION:cave de l’estabel\, route de Fontès\, Cabrières\, 34800\, France
END:VEVENT
END:VCALENDAR